Package: biocroxytest
Version: 1.3.0
Command: E:\biocbuild\bbs-3.21-bioc\R\bin\R.exe CMD INSTALL biocroxytest
StartedAt: 2025-02-19 15:29:00 -0500 (Wed, 19 Feb 2025)
EndedAt: 2025-02-19 15:29:25 -0500 (Wed, 19 Feb 2025)
EllapsedTime: 25.2 seconds
RetCode: 0
Status: OK