Package: biocroxytest
Version: 1.3.0
Command: chmod a+r biocroxytest -R && E:\biocbuild\bbs-3.21-bioc\R\bin\R.exe CMD build --keep-empty-dirs --no-resave-data biocroxytest
StartedAt: 2025-02-19 17:30:31 -0500 (Wed, 19 Feb 2025)
EndedAt: 2025-02-19 17:30:49 -0500 (Wed, 19 Feb 2025)
EllapsedTime: 17.3 seconds
RetCode: 0
Status: OK
PackageFile: biocroxytest_1.3.0.tar.gz
PackageFileSize: 2.493 <A href="http://en.wikipedia.org/wiki/MiB" target="_blank">MiB</A>