Package: biocroxytest Version: 1.3.0 Command: rm -rf biocroxytest.buildbin-libdir && mkdir biocroxytest.buildbin-libdir && E:\biocbuild\bbs-3.21-bioc\R\bin\R.exe CMD INSTALL --build --library=biocroxytest.buildbin-libdir biocroxytest_1.3.0.tar.gz StartedAt: 2025-02-20 07:20:56 -0500 (Thu, 20 Feb 2025) EndedAt: 2025-02-20 07:21:21 -0500 (Thu, 20 Feb 2025) EllapsedTime: 26.0 seconds RetCode: 0 Status: OK PackageFile: biocroxytest_1.3.0.zip PackageFileSize: 147.7 <A href="http://en.wikipedia.org/wiki/KiB" target="_blank">KiB</A>