Package: biocroxytest Version: 1.3.0 Command: /home/biocbuild/bbs-3.21-bioc/R/bin/R CMD build --keep-empty-dirs --no-resave-data biocroxytest StartedAt: 2025-02-19 16:21:26 -0500 (Wed, 19 Feb 2025) EndedAt: 2025-02-19 16:21:32 -0500 (Wed, 19 Feb 2025) EllapsedTime: 6.0 seconds RetCode: 0 Status: OK PackageFile: biocroxytest_1.3.0.tar.gz PackageFileSize: 2.493 <A href="http://en.wikipedia.org/wiki/MiB" target="_blank">MiB</A>