Package: biocViews Version: 1.75.0 Command: rm -rf biocViews.buildbin-libdir && mkdir biocViews.buildbin-libdir && /Users/biocbuild/BBS/utils/build-universal.sh biocViews_1.75.0.tar.gz /Library/Frameworks/R.framework/Resources/bin/R biocViews.buildbin-libdir StartedAt: 2025-02-05 00:30:22 -0500 (Wed, 05 Feb 2025) EndedAt: 2025-02-05 00:30:38 -0500 (Wed, 05 Feb 2025) EllapsedTime: 15.1 seconds RetCode: 0 Status: OK PackageFile: biocViews_1.75.0.tgz PackageFileSize: 888.1 KiB