Package: biocViews Version: 1.75.0 Command: rm -rf biocViews.buildbin-libdir && mkdir biocViews.buildbin-libdir && /Users/biocbuild/BBS/utils/build-universal.sh biocViews_1.75.0.tar.gz /Library/Frameworks/R.framework/Resources/bin/R biocViews.buildbin-libdir StartedAt: 2025-02-04 22:09:15 -0500 (Tue, 04 Feb 2025) EndedAt: 2025-02-04 22:09:19 -0500 (Tue, 04 Feb 2025) EllapsedTime: 4.1 seconds RetCode: 0 Status: OK PackageFile: biocViews_1.75.0.tgz PackageFileSize: 890.7 KiB