Package: bgx
Version: 1.73.0
Maintainer: Ernest Turro
MaintainerEmail: et341 at cam.ac.uk
git_url: https://git.bioconductor.org/packages/bgx
git_branch: devel
git_last_commit: 6430db5
git_last_commit_date: 2024-10-29 09:27:51 -0500 (Tue, 29 Oct 2024)