Package: beadarray
Version: 2.57.0
Maintainer: Mark Dunning
MaintainerEmail: m.j.dunning at sheffield.ac.uk
git_url: https://git.bioconductor.org/packages/beadarray
git_branch: devel
git_last_commit: 21fcf33
git_last_commit_date: 2024-10-29 09:25:42 -0500 (Tue, 29 Oct 2024)