Package: beachmat.tiledb
Version: 0.99.1
Command: /Library/Frameworks/R.framework/Resources/bin/R CMD INSTALL beachmat.tiledb
StartedAt: 2025-02-19 15:12:04 -0500 (Wed, 19 Feb 2025)
EndedAt: 2025-02-19 15:14:07 -0500 (Wed, 19 Feb 2025)
EllapsedTime: 122.4 seconds
RetCode: 0
Status: OK