Package: beachmat.tiledb Version: 0.99.1 Command: /Library/Frameworks/R.framework/Resources/bin/R CMD check --install=check:beachmat.tiledb.install-out.txt --library=/Library/Frameworks/R.framework/Resources/library --no-vignettes --timings beachmat.tiledb_0.99.1.tar.gz StartedAt: 2025-02-19 18:59:37 -0500 (Wed, 19 Feb 2025) EndedAt: 2025-02-19 19:02:23 -0500 (Wed, 19 Feb 2025) EllapsedTime: 166.2 seconds RetCode: 0 Status: OK CheckDir: beachmat.tiledb.Rcheck Warnings: 0