Package: beachmat.tiledb Version: 0.99.1 Command: /Library/Frameworks/R.framework/Resources/bin/R CMD build --keep-empty-dirs --no-resave-data beachmat.tiledb StartedAt: 2025-02-19 15:57:04 -0500 (Wed, 19 Feb 2025) EndedAt: 2025-02-19 15:58:55 -0500 (Wed, 19 Feb 2025) EllapsedTime: 110.8 seconds RetCode: 0 Status: OK PackageFile: beachmat.tiledb_0.99.1.tar.gz PackageFileSize: 321.8 <A href="http://en.wikipedia.org/wiki/KiB" target="_blank">KiB</A>