##############################################################################
##############################################################################
###
### Running command:
###
###   /Library/Frameworks/R.framework/Resources/bin/R CMD build --keep-empty-dirs --no-resave-data beachmat.tiledb
###
##############################################################################
##############################################################################


* checking for file ‘beachmat.tiledb/DESCRIPTION’ ... OK
* preparing ‘beachmat.tiledb’:
* checking DESCRIPTION meta-information ... OK
* cleaning src
* running ‘cleanup’
* installing the package to build vignettes
* creating vignettes ... OK
* cleaning src
* running ‘cleanup’
* checking for LF line-endings in source and make files and shell scripts
* checking for empty or unneeded directories
* building ‘beachmat.tiledb_0.99.1.tar.gz’