Package: beachmat.tiledb Version: 0.99.1 Command: rm -rf beachmat.tiledb.buildbin-libdir && mkdir beachmat.tiledb.buildbin-libdir && /Users/biocbuild/BBS/utils/build-universal.sh beachmat.tiledb_0.99.1.tar.gz /Library/Frameworks/R.framework/Resources/bin/R beachmat.tiledb.buildbin-libdir StartedAt: 2025-02-20 00:21:36 -0500 (Thu, 20 Feb 2025) EndedAt: 2025-02-20 00:23:48 -0500 (Thu, 20 Feb 2025) EllapsedTime: 132.1 seconds RetCode: 0 Status: OK PackageFile: beachmat.tiledb_0.99.1.tgz PackageFileSize: 773.4 <A href="http://en.wikipedia.org/wiki/KiB" target="_blank">KiB</A>