Package: bayNorm Version: 1.25.0 Command: /Library/Frameworks/R.framework/Resources/bin/R CMD INSTALL bayNorm StartedAt: 2025-01-31 15:35:20 -0500 (Fri, 31 Jan 2025) EndedAt: 2025-01-31 15:36:11 -0500 (Fri, 31 Jan 2025) EllapsedTime: 51.3 seconds RetCode: 0 Status: OK