Package: bayNorm Version: 1.25.0 Command: rm -rf bayNorm.buildbin-libdir && mkdir bayNorm.buildbin-libdir && /Users/biocbuild/BBS/utils/build-universal.sh bayNorm_1.25.0.tar.gz /Library/Frameworks/R.framework/Resources/bin/R bayNorm.buildbin-libdir StartedAt: 2025-01-31 22:08:37 -0500 (Fri, 31 Jan 2025) EndedAt: 2025-01-31 22:08:55 -0500 (Fri, 31 Jan 2025) EllapsedTime: 17.3 seconds RetCode: 0 Status: OK PackageFile: bayNorm_1.25.0.tgz PackageFileSize: 476.4 KiB