Package: barcodetrackR
Version: 1.15.0
Command: /home/biocbuild/bbs-3.21-bioc/R/bin/R CMD INSTALL barcodetrackR
StartedAt: 2025-02-19 15:18:08 -0500 (Wed, 19 Feb 2025)
EndedAt: 2025-02-19 15:18:34 -0500 (Wed, 19 Feb 2025)
EllapsedTime: 25.4 seconds
RetCode: 0
Status: OK