Package: apeglm Version: 1.29.0 Command: /home/biocbuild/bbs-3.21-bioc/R/bin/R CMD check --install=check:apeglm.install-out.txt --library=/home/biocbuild/bbs-3.21-bioc/R/site-library --timings apeglm_1.29.0.tar.gz StartedAt: 2025-01-31 20:04:02 -0500 (Fri, 31 Jan 2025) EndedAt: 2025-01-31 20:07:41 -0500 (Fri, 31 Jan 2025) EllapsedTime: 219.4 seconds RetCode: 0 Status: OK CheckDir: apeglm.Rcheck Warnings: 0