Package: antiProfiles
Version: 1.47.0
Command: E:\biocbuild\bbs-3.21-bioc\R\bin\R.exe CMD INSTALL antiProfiles
StartedAt: 2025-02-19 15:23:09 -0500 (Wed, 19 Feb 2025)
EndedAt: 2025-02-19 15:23:38 -0500 (Wed, 19 Feb 2025)
EllapsedTime: 28.5 seconds
RetCode: 0
Status: OK