Package: antiProfiles
Version: 1.47.0
Command: E:\biocbuild\bbs-3.21-bioc\R\bin\R.exe CMD check --no-multiarch --install=check:antiProfiles.install-out.txt --library=E:\biocbuild\bbs-3.21-bioc\R\library --no-vignettes --timings antiProfiles_1.47.0.tar.gz
StartedAt: 2025-02-19 22:37:36 -0500 (Wed, 19 Feb 2025)
EndedAt: 2025-02-19 22:38:09 -0500 (Wed, 19 Feb 2025)
EllapsedTime: 32.9 seconds
RetCode: 0
Status: OK
CheckDir: antiProfiles.Rcheck
Warnings: 0