Package: antiProfiles
Version: 1.47.0
Command: chmod a+r antiProfiles -R && E:\biocbuild\bbs-3.21-bioc\R\bin\R.exe CMD build --keep-empty-dirs --no-resave-data antiProfiles
StartedAt: 2025-02-19 17:14:40 -0500 (Wed, 19 Feb 2025)
EndedAt: 2025-02-19 17:15:32 -0500 (Wed, 19 Feb 2025)
EllapsedTime: 52.2 seconds
RetCode: 0
Status: OK
PackageFile: antiProfiles_1.47.0.tar.gz
PackageFileSize: 110.3 <A href="http://en.wikipedia.org/wiki/KiB" target="_blank">KiB</A>