Package: antiProfiles Version: 1.47.0 Command: rm -rf antiProfiles.buildbin-libdir && mkdir antiProfiles.buildbin-libdir && E:\biocbuild\bbs-3.21-bioc\R\bin\R.exe CMD INSTALL --build --library=antiProfiles.buildbin-libdir antiProfiles_1.47.0.tar.gz StartedAt: 2025-02-20 07:15:24 -0500 (Thu, 20 Feb 2025) EndedAt: 2025-02-20 07:15:48 -0500 (Thu, 20 Feb 2025) EllapsedTime: 24.0 seconds RetCode: 0 Status: OK PackageFile: antiProfiles_1.47.0.zip PackageFileSize: 272.6 <A href="http://en.wikipedia.org/wiki/KiB" target="_blank">KiB</A>