Package: annaffy Version: 1.79.0 Command: E:\biocbuild\bbs-3.21-bioc\R\bin\R.exe CMD check --no-multiarch --install=check:annaffy.install-out.txt --library=E:\biocbuild\bbs-3.21-bioc\R\library --no-vignettes --timings annaffy_1.79.0.tar.gz StartedAt: 2025-02-04 23:02:01 -0500 (Tue, 04 Feb 2025) EndedAt: 2025-02-04 23:04:18 -0500 (Tue, 04 Feb 2025) EllapsedTime: 137.4 seconds RetCode: 0 Status: WARNINGS CheckDir: annaffy.Rcheck Warnings: 1