Package: annaffy Version: 1.79.0 Command: /Library/Frameworks/R.framework/Resources/bin/R CMD INSTALL annaffy StartedAt: 2025-02-04 15:14:55 -0500 (Tue, 04 Feb 2025) EndedAt: 2025-02-04 15:15:19 -0500 (Tue, 04 Feb 2025) EllapsedTime: 23.6 seconds RetCode: 0 Status: OK