Package: alabaster.se Version: 1.7.0 Command: /Library/Frameworks/R.framework/Resources/bin/R CMD INSTALL alabaster.se StartedAt: 2025-01-31 15:41:20 -0500 (Fri, 31 Jan 2025) EndedAt: 2025-01-31 15:41:54 -0500 (Fri, 31 Jan 2025) EllapsedTime: 33.4 seconds RetCode: 0 Status: OK