Package: alabaster.se Version: 1.7.0 Command: /home/biocbuild/R/R/bin/R CMD check --install=check:alabaster.se.install-out.txt --library=/home/biocbuild/R/R/site-library --no-vignettes --timings alabaster.se_1.7.0.tar.gz StartedAt: 2025-01-28 03:29:27 -0000 (Tue, 28 Jan 2025) EndedAt: 2025-01-28 03:33:24 -0000 (Tue, 28 Jan 2025) EllapsedTime: 236.3 seconds RetCode: 1 Status: ERROR CheckDir: alabaster.se.Rcheck Warnings: NA