Package: airpart Version: 1.15.0 Command: /home/biocbuild/bbs-3.21-bioc/R/bin/R CMD INSTALL airpart StartedAt: 2025-02-19 15:53:40 -0500 (Wed, 19 Feb 2025) EndedAt: 2025-02-19 15:54:11 -0500 (Wed, 19 Feb 2025) EllapsedTime: 30.2 seconds RetCode: 0 Status: OK