Package: airpart
Version: 1.15.0
Command: /home/biocbuild/bbs-3.21-bioc/R/bin/R CMD check --install=check:airpart.install-out.txt --library=/home/biocbuild/bbs-3.21-bioc/R/site-library --timings airpart_1.15.0.tar.gz
StartedAt: 2025-02-19 19:52:14 -0500 (Wed, 19 Feb 2025)
EndedAt: 2025-02-19 19:57:24 -0500 (Wed, 19 Feb 2025)
EllapsedTime: 310.5 seconds
RetCode: 0
Status: OK
CheckDir: airpart.Rcheck
Warnings: 0