Package: affycomp
Version: 1.83.0
Maintainer: Robert D. Shear
MaintainerEmail: rshear at ds.dfci.harvard.edu
git_url: https://git.bioconductor.org/packages/affycomp
git_branch: devel
git_last_commit: 0f0f8ff
git_last_commit_date: 2024-10-29 09:21:34 -0500 (Tue, 29 Oct 2024)