Package: a4Classif
Version: 1.55.0
Command: /Library/Frameworks/R.framework/Resources/bin/R CMD INSTALL a4Classif
StartedAt: 2025-02-19 15:33:00 -0500 (Wed, 19 Feb 2025)
EndedAt: 2025-02-19 15:33:10 -0500 (Wed, 19 Feb 2025)
EllapsedTime: 9.5 seconds
RetCode: 0
Status: OK