Package: a4Classif Version: 1.55.0 Command: /Library/Frameworks/R.framework/Resources/bin/R CMD build --keep-empty-dirs --no-resave-data a4Classif StartedAt: 2025-02-19 15:50:22 -0500 (Wed, 19 Feb 2025) EndedAt: 2025-02-19 15:50:56 -0500 (Wed, 19 Feb 2025) EllapsedTime: 33.2 seconds RetCode: 0 Status: OK PackageFile: a4Classif_1.55.0.tar.gz PackageFileSize: 661.7 <A href="http://en.wikipedia.org/wiki/KiB" target="_blank">KiB</A>