Package: ViSEAGO Version: 1.21.0 Command: rm -rf ViSEAGO.buildbin-libdir && mkdir ViSEAGO.buildbin-libdir && E:\biocbuild\bbs-3.21-bioc\R\bin\R.exe CMD INSTALL --build --library=ViSEAGO.buildbin-libdir ViSEAGO_1.21.0.tar.gz StartedAt: 2025-02-05 09:09:56 -0500 (Wed, 05 Feb 2025) EndedAt: 2025-02-05 09:11:04 -0500 (Wed, 05 Feb 2025) EllapsedTime: 68.4 seconds RetCode: 0 Status: OK PackageFile: ViSEAGO_1.21.0.zip PackageFileSize: 9.116 MiB