Package: ViSEAGO Version: 1.21.0 Command: /Library/Frameworks/R.framework/Resources/bin/R CMD INSTALL ViSEAGO StartedAt: 2025-02-17 15:37:43 -0500 (Mon, 17 Feb 2025) EndedAt: 2025-02-17 15:38:27 -0500 (Mon, 17 Feb 2025) EllapsedTime: 43.7 seconds RetCode: 0 Status: OK