Package: ViSEAGO Version: 1.21.0 Command: /Library/Frameworks/R.framework/Resources/bin/R CMD build --keep-empty-dirs --no-resave-data ViSEAGO StartedAt: 2025-02-04 18:40:51 -0500 (Tue, 04 Feb 2025) EndedAt: 2025-02-04 18:41:59 -0500 (Tue, 04 Feb 2025) EllapsedTime: 67.4 seconds RetCode: 0 Status: OK PackageFile: ViSEAGO_1.21.0.tar.gz PackageFileSize: 8.623 MiB