Package: VarCon Version: 1.15.0 Command: /home/biocbuild/bbs-3.21-bioc/R/bin/R CMD INSTALL VarCon StartedAt: 2025-02-19 15:31:04 -0500 (Wed, 19 Feb 2025) EndedAt: 2025-02-19 15:31:41 -0500 (Wed, 19 Feb 2025) EllapsedTime: 37.4 seconds RetCode: 0 Status: OK