Package: VarCon Version: 1.15.0 Command: /home/biocbuild/bbs-3.21-bioc/R/bin/R CMD check --install=check:VarCon.install-out.txt --library=/home/biocbuild/bbs-3.21-bioc/R/site-library --timings VarCon_1.15.0.tar.gz StartedAt: 2025-02-20 03:28:26 -0500 (Thu, 20 Feb 2025) EndedAt: 2025-02-20 03:32:47 -0500 (Thu, 20 Feb 2025) EllapsedTime: 260.3 seconds RetCode: 0 Status: OK CheckDir: VarCon.Rcheck Warnings: 0