Package: VarCon
Version: 1.15.0
Command: /home/biocbuild/bbs-3.21-bioc/R/bin/R CMD build --keep-empty-dirs --no-resave-data VarCon
StartedAt: 2025-02-19 19:39:04 -0500 (Wed, 19 Feb 2025)
EndedAt: 2025-02-19 19:39:55 -0500 (Wed, 19 Feb 2025)
EllapsedTime: 51.1 seconds
RetCode: 0
Status: OK
PackageFile: VarCon_1.15.0.tar.gz
PackageFileSize: 1.89 <A href="http://en.wikipedia.org/wiki/MiB" target="_blank">MiB</A>