Package: VarCon
Version: 1.15.0
Command: /Library/Frameworks/R.framework/Resources/bin/R CMD INSTALL VarCon
StartedAt: 2025-02-19 15:24:41 -0500 (Wed, 19 Feb 2025)
EndedAt: 2025-02-19 15:25:32 -0500 (Wed, 19 Feb 2025)
EllapsedTime: 51.4 seconds
RetCode: 0
Status: OK