Package: VarCon
Version: 1.15.0
Command: rm -rf VarCon.buildbin-libdir && mkdir VarCon.buildbin-libdir && /Users/biocbuild/BBS/utils/build-universal.sh VarCon_1.15.0.tar.gz /Library/Frameworks/R.framework/Resources/bin/R VarCon.buildbin-libdir
StartedAt: 2025-02-20 01:00:07 -0500 (Thu, 20 Feb 2025)
EndedAt: 2025-02-20 01:01:03 -0500 (Thu, 20 Feb 2025)
EllapsedTime: 56.6 seconds
RetCode: 0
Status: OK
PackageFile: VarCon_1.15.0.tgz
PackageFileSize: 2.013 <A href="http://en.wikipedia.org/wiki/MiB" target="_blank">MiB</A>