Package: VarCon Version: 1.15.0 Maintainer: Johannes Ptok MaintainerEmail: Johannes.Ptok at posteo.de git_url: https://git.bioconductor.org/packages/VarCon git_branch: devel git_last_commit: b4f3a14 git_last_commit_date: 2024-10-29 10:53:34 -0500 (Tue, 29 Oct 2024)