##############################################################################
##############################################################################
###
### Running command:
###
###   /Library/Frameworks/R.framework/Resources/bin/R CMD INSTALL VanillaICE
###
##############################################################################
##############################################################################


* installing to library ‘/Library/Frameworks/R.framework/Versions/4.5-x86_64/Resources/library’
ERROR: dependency ‘crlmm’ is not available for package ‘VanillaICE’
Perhaps try a variation of:
install.packages('crlmm')
* removing ‘/Library/Frameworks/R.framework/Versions/4.5-x86_64/Resources/library/VanillaICE’