Package: VanillaICE Version: 1.69.0 Command: /Library/Frameworks/R.framework/Resources/bin/R CMD build --keep-empty-dirs --no-resave-data VanillaICE StartedAt: 2025-02-19 18:35:56 -0500 (Wed, 19 Feb 2025) EndedAt: 2025-02-19 18:35:58 -0500 (Wed, 19 Feb 2025) EllapsedTime: 2.3 seconds RetCode: 1 Status: ERROR PackageFile: None PackageFileSize: NA