##############################################################################
##############################################################################
###
### Running command:
###
###   /Library/Frameworks/R.framework/Resources/bin/R CMD build --keep-empty-dirs --no-resave-data VanillaICE
###
##############################################################################
##############################################################################


* checking for file ‘VanillaICE/DESCRIPTION’ ... OK
* preparing ‘VanillaICE’:
* checking DESCRIPTION meta-information ... OK
* cleaning src
* installing the package to build vignettes
      -----------------------------------
ERROR: dependency ‘crlmm’ is not available for package ‘VanillaICE’
Perhaps try a variation of:
install.packages('crlmm')
* removing ‘/private/tmp/Rtmp2bQLOi/Rinst195f50864a60/VanillaICE’
      -----------------------------------
ERROR: package installation failed