Package: VanillaICE
Version: 1.69.0
Maintainer: Robert Scharpf
MaintainerEmail: rscharpf at jhu.edu
git_url: https://git.bioconductor.org/packages/VanillaICE
git_branch: devel
git_last_commit: 6af9e70
git_last_commit_date: 2024-10-29 09:28:18 -0500 (Tue, 29 Oct 2024)