Package: Uniquorn
Version: 2.27.0
Maintainer: 'Raik Otto'
MaintainerEmail: raik.otto at hu-berlin.de
git_url: https://git.bioconductor.org/packages/Uniquorn
git_branch: devel
git_last_commit: a1c9b41
git_last_commit_date: 2024-10-29 10:08:04 -0500 (Tue, 29 Oct 2024)