Package: UCell Version: 2.11.1 Command: /home/biocbuild/bbs-3.21-bioc/R/bin/R CMD INSTALL UCell StartedAt: 2025-02-04 15:17:09 -0500 (Tue, 04 Feb 2025) EndedAt: 2025-02-04 15:17:31 -0500 (Tue, 04 Feb 2025) EllapsedTime: 22.3 seconds RetCode: 0 Status: OK