Package: UCell Version: 2.11.1 Command: /Library/Frameworks/R.framework/Resources/bin/R CMD INSTALL UCell StartedAt: 2025-02-04 15:13:33 -0500 (Tue, 04 Feb 2025) EndedAt: 2025-02-04 15:14:02 -0500 (Tue, 04 Feb 2025) EllapsedTime: 28.9 seconds RetCode: 0 Status: OK