Package: UCell
Version: 2.11.1
Command: /home/biocbuild/R/R/bin/R CMD INSTALL UCell
StartedAt: 2025-01-29 19:45:01 -0000 (Wed, 29 Jan 2025)
EndedAt: 2025-01-29 19:45:31 -0000 (Wed, 29 Jan 2025)
EllapsedTime: 30.3 seconds
RetCode: 0
Status: OK