Package: UCell
Version: 2.11.1
Command: /home/biocbuild/R/R/bin/R CMD build --keep-empty-dirs --no-resave-data UCell
StartedAt: 2025-01-28 03:04:19 -0000 (Tue, 28 Jan 2025)
EndedAt: 2025-01-28 03:11:41 -0000 (Tue, 28 Jan 2025)
EllapsedTime: 442.2 seconds
RetCode: 0
Status: OK
PackageFile: UCell_2.11.1.tar.gz
PackageFileSize: 1.56 <A href="http://en.wikipedia.org/wiki/MiB" target="_blank">MiB</A>