Package: TnT Version: 1.29.0 Command: /Library/Frameworks/R.framework/Resources/bin/R CMD INSTALL TnT StartedAt: 2025-02-19 15:23:21 -0500 (Wed, 19 Feb 2025) EndedAt: 2025-02-19 15:23:41 -0500 (Wed, 19 Feb 2025) EllapsedTime: 19.1 seconds RetCode: 0 Status: OK