Package: TnT Version: 1.29.0 Command: /Library/Frameworks/R.framework/Resources/bin/R CMD build --keep-empty-dirs --no-resave-data TnT StartedAt: 2025-02-19 18:31:56 -0500 (Wed, 19 Feb 2025) EndedAt: 2025-02-19 18:32:20 -0500 (Wed, 19 Feb 2025) EllapsedTime: 24.0 seconds RetCode: 0 Status: OK PackageFile: TnT_1.29.0.tar.gz PackageFileSize: 230.5 <A href="http://en.wikipedia.org/wiki/KiB" target="_blank">KiB</A>